BEGIN:VCALENDAR
VERSION:2.0
PRODID:-//Skolebyggeri - ECPv6.15.19//NONSGML v1.0//EN
CALSCALE:GREGORIAN
METHOD:PUBLISH
X-WR-CALNAME:Skolebyggeri
X-ORIGINAL-URL:https://skolebyggeri.com
X-WR-CALDESC:Events for Skolebyggeri
REFRESH-INTERVAL;VALUE=DURATION:PT1H
X-Robots-Tag:noindex
X-PUBLISHED-TTL:PT1H
BEGIN:VTIMEZONE
TZID:Europe/Copenhagen
BEGIN:DAYLIGHT
TZOFFSETFROM:+0100
TZOFFSETTO:+0200
TZNAME:CEST
DTSTART:20240331T010000
END:DAYLIGHT
BEGIN:STANDARD
TZOFFSETFROM:+0200
TZOFFSETTO:+0100
TZNAME:CET
DTSTART:20241027T010000
END:STANDARD
BEGIN:DAYLIGHT
TZOFFSETFROM:+0100
TZOFFSETTO:+0200
TZNAME:CEST
DTSTART:20250330T010000
END:DAYLIGHT
BEGIN:STANDARD
TZOFFSETFROM:+0200
TZOFFSETTO:+0100
TZNAME:CET
DTSTART:20251026T010000
END:STANDARD
BEGIN:DAYLIGHT
TZOFFSETFROM:+0100
TZOFFSETTO:+0200
TZNAME:CEST
DTSTART:20260329T010000
END:DAYLIGHT
BEGIN:STANDARD
TZOFFSETFROM:+0200
TZOFFSETTO:+0100
TZNAME:CET
DTSTART:20261025T010000
END:STANDARD
END:VTIMEZONE
BEGIN:VEVENT
DTSTART;VALUE=DATE:20250415
DTEND;VALUE=DATE:20250417
DTSTAMP:20260421T145135
CREATED:20250114T181045Z
LAST-MODIFIED:20250212T204350Z
UID:10000010-1744675200-1744847999@skolebyggeri.com
SUMMARY:SCHULBAU Leipzig 2025
DESCRIPTION:Go to events and tickets
URL:https://skolebyggeri.com/event/schulbau-leipzig-2025/
ATTACH;FMTTYPE=image/webp:https://skolebyggeri.com/wp-content/uploads/2025/01/pexels-marcel-gierschick-scaled-e1721915982224-2048x1364.jpg.webp
ORGANIZER;CN="Kirsten Jung":MAILTO:kirsten.jung@cubusmedien.de
END:VEVENT
END:VCALENDAR